BEGIN:VCALENDAR
VERSION:2.0
PRODID:-//Comedy Village - Times Square - ECPv6.15.17.1//NONSGML v1.0//EN
CALSCALE:GREGORIAN
METHOD:PUBLISH
X-WR-CALNAME:Comedy Village - Times Square
X-ORIGINAL-URL:https://comedyvillage.com
X-WR-CALDESC:Events for Comedy Village - Times Square
REFRESH-INTERVAL;VALUE=DURATION:PT1H
X-Robots-Tag:noindex
X-PUBLISHED-TTL:PT1H
BEGIN:VTIMEZONE
TZID:America/New_York
BEGIN:DAYLIGHT
TZOFFSETFROM:-0500
TZOFFSETTO:-0400
TZNAME:EDT
DTSTART:20240310T070000
END:DAYLIGHT
BEGIN:STANDARD
TZOFFSETFROM:-0400
TZOFFSETTO:-0500
TZNAME:EST
DTSTART:20241103T060000
END:STANDARD
BEGIN:DAYLIGHT
TZOFFSETFROM:-0500
TZOFFSETTO:-0400
TZNAME:EDT
DTSTART:20250309T070000
END:DAYLIGHT
BEGIN:STANDARD
TZOFFSETFROM:-0400
TZOFFSETTO:-0500
TZNAME:EST
DTSTART:20251102T060000
END:STANDARD
BEGIN:DAYLIGHT
TZOFFSETFROM:-0500
TZOFFSETTO:-0400
TZNAME:EDT
DTSTART:20260308T070000
END:DAYLIGHT
BEGIN:STANDARD
TZOFFSETFROM:-0400
TZOFFSETTO:-0500
TZNAME:EST
DTSTART:20261101T060000
END:STANDARD
END:VTIMEZONE
BEGIN:VEVENT
DTSTART;TZID=America/New_York:20250801T220000
DTEND;TZID=America/New_York:20250801T233000
DTSTAMP:20260421T140456
CREATED:20250726T145641Z
LAST-MODIFIED:20250730T135346Z
UID:10000873-1754085600-1754091000@comedyvillage.com
SUMMARY:Friday\, 1st Aug @10pm Comedy Village Presents Sean and PJ
DESCRIPTION:Get ready for another round of live stand-up comedy in NYC at Comedy Village on Friday\, 1st Aug @8pm\, your go to Times Square comedy club! \nDon’t miss a fantastic late night comedy showcase featuring the hilarious Mickey Farrow and the incredibly witty Sean Donnelly. There’s also a chance the talented Krissy Gregory might join this all-star lineup! Experience the best comedy in Midtown Manhattan from top NYC comedians and national acts. \nComedy Village guarantees an evening of brilliant New York City comedy. \nPlease Note: Performer lineup subject to change without prior notice. Join us for a late-night dose of phenomenal stand-up in Times Square!
URL:https://comedyvillage.com/event/friday-1st-aug-10pm-comedy-in-nyc-sean-carole/
LOCATION:Comedy Village Times Square\, 352 West 44th Street\, New York\, NY\, 10036\, United States
ATTACH;FMTTYPE=image/png:https://comedyvillage.com/wp-content/uploads/2025/07/81-10PM.png
ORGANIZER;CN="Comedy Village":MAILTO:zach@comedyvillage.com
END:VEVENT
BEGIN:VEVENT
DTSTART;TZID=America/New_York:20250801T200000
DTEND;TZID=America/New_York:20250801T220000
DTSTAMP:20260421T140456
CREATED:20250726T145318Z
LAST-MODIFIED:20250730T135057Z
UID:10000874-1754078400-1754085600@comedyvillage.com
SUMMARY:Friday\, 1st Aug @8pm Comedy Village presents Paula and Sean
DESCRIPTION:Get ready for an unforgettable night of live stand-up comedy in NYC at Comedy Village on Friday\, 1st Aug @8pm\, your premier Times Square comedy club! \nJoin us for a stellar comedy showcase hosted by the hilarious Paula Leon. You might even catch a surprise appearance from the talented PJ Landers! We’re bringing the best comedy in Midtown Manhattan right to you. \nExperience top-tier laughter from NYC comedians seen on TV and national stages. Comedy Village promises an evening of brilliant New York City comedy. \nPlease Note: Performer lineup subject to change without prior notice. Come prepared for an evening of phenomenal stand-up in Times Square and unexpected fun!
URL:https://comedyvillage.com/event/friday-1st-aug-8pm-comedy-in-nyc-carole-sean/
LOCATION:Comedy Village Times Square\, 352 West 44th Street\, New York\, NY\, 10036\, United States
ATTACH;FMTTYPE=image/png:https://comedyvillage.com/wp-content/uploads/2025/07/81-8PM.png
ORGANIZER;CN="Comedy Village":MAILTO:zach@comedyvillage.com
END:VEVENT
BEGIN:VEVENT
DTSTART;TZID=America/New_York:20250731T220000
DTEND;TZID=America/New_York:20250731T233000
DTSTAMP:20260421T140456
CREATED:20250715T072826Z
LAST-MODIFIED:20250729T211624Z
UID:10000872-1753999200-1754004600@comedyvillage.com
SUMMARY:Phil Hunt & Dan Wickes | Thur\, July 31st @10PM – Times Square Comedy
DESCRIPTION:Thursday 31st July @10pm Comedy Village Presents – Roger Stanton\, Natalie G\, Mickey Farrow\, Phil Hunt\, Dan Wickes\, comics from the Tonight Show\, Comedy Central\, HBO and more…
URL:https://comedyvillage.com/event/thursday-31st-july-10pm-comedy-in-nyc/
LOCATION:Comedy Village Times Square\, 352 West 44th Street\, New York\, NY\, 10036\, United States
ATTACH;FMTTYPE=image/jpeg:https://comedyvillage.com/wp-content/uploads/2025/07/731-10pm.jpg
ORGANIZER;CN="Comedy Village":MAILTO:zach@comedyvillage.com
END:VEVENT
BEGIN:VEVENT
DTSTART;TZID=America/New_York:20250731T200000
DTEND;TZID=America/New_York:20250731T220000
DTSTAMP:20260421T140456
CREATED:20250715T072735Z
LAST-MODIFIED:20250728T151629Z
UID:10000871-1753992000-1753999200@comedyvillage.com
SUMMARY:NYC Stand-Up: Granger & Donnelly | Thu\, July 31st @8PM - Times Square Comedy
DESCRIPTION:NYC Stand-Up: Granger & Donnelly | Thu\, July 31st @8PM – Times Square Comedy Adam Mueller\, Sean Donnelly\, Anthony Devito\, Caroline Haynes
URL:https://comedyvillage.com/event/thursday-31st-july-8pm-comedy-in-nyc/
LOCATION:Comedy Village Times Square\, 352 West 44th Street\, New York\, NY\, 10036\, United States
ATTACH;FMTTYPE=image/png:https://comedyvillage.com/wp-content/uploads/2025/07/Comedy-Village_July24_10pm-1.png
ORGANIZER;CN="Comedy Village":MAILTO:zach@comedyvillage.com
END:VEVENT
BEGIN:VEVENT
DTSTART;TZID=America/New_York:20250730T213000
DTEND;TZID=America/New_York:20250730T233000
DTSTAMP:20260421T140456
CREATED:20250715T072556Z
LAST-MODIFIED:20260410T060723Z
UID:10000870-1753911000-1753918200@comedyvillage.com
SUMMARY:Times Square Comedy: Leon & Temple | Wed\, July 30th @9:30 PM
DESCRIPTION:Times Square Comedy: Riess & Temple | Wed\, July 30th @9:30 PM Phil Hunt\, Paula Leon\, PJ Landers
URL:https://comedyvillage.com/event/wednesday-30th-july-930pm-comedy-in-nyc/
LOCATION:Comedy Village Times Square\, 352 West 44th Street\, New York\, NY\, 10036\, United States
ATTACH;FMTTYPE=image/png:https://comedyvillage.com/wp-content/uploads/2025/07/ComedyVillage_July30_930.png
ORGANIZER;CN="Comedy Village":MAILTO:zach@comedyvillage.com
END:VEVENT
BEGIN:VEVENT
DTSTART;TZID=America/New_York:20250730T193000
DTEND;TZID=America/New_York:20250730T213000
DTSTAMP:20260421T140456
CREATED:20250715T072523Z
LAST-MODIFIED:20260410T060445Z
UID:10000869-1753903800-1753911000@comedyvillage.com
SUMMARY:Wednesday 30th July @730pm Comedy Village presents Comedy with Phil Hunt hosted by Paula Leon
DESCRIPTION:Wednesday 30th July @730pm Comedy Village presents Comedy with Phil Hunt hosted by Paula Leon – comics from the Tonight Show\, Comedy Central\, HBO and more…
URL:https://comedyvillage.com/event/wednesday-30th-july-730pm-comedy-in-nyc/
LOCATION:Comedy Village Times Square\, 352 West 44th Street\, New York\, NY\, 10036\, United States
ATTACH;FMTTYPE=image/jpeg:https://comedyvillage.com/wp-content/uploads/2025/07/ComedyVillage_July30_730.jpg
ORGANIZER;CN="Comedy Village":MAILTO:zach@comedyvillage.com
END:VEVENT
BEGIN:VEVENT
DTSTART;TZID=America/New_York:20250729T213000
DTEND;TZID=America/New_York:20250729T233000
DTSTAMP:20260421T140456
CREATED:20250715T072407Z
LAST-MODIFIED:20260410T060110Z
UID:10000868-1753824600-1753831800@comedyvillage.com
SUMMARY:Tuesday 29th July @930pm Comedy Village Presents Comedy with Mickey Farrow hosted by Caroline Hanes
DESCRIPTION:Tuesday 29th July @930pm Comedy Village Presents Comedy with Mickey Farrow hosted by Caroline Hanes – comics from the Tonight Show\, Comedy Central\, HBO and more…
URL:https://comedyvillage.com/event/tuesday-29th-july-930pm-comedy-in-nyc/
LOCATION:Comedy Village Times Square\, 352 West 44th Street\, New York\, NY\, 10036\, United States
ATTACH;FMTTYPE=image/jpeg:https://comedyvillage.com/wp-content/uploads/2025/07/ComedyVillage_July29_930.jpg
ORGANIZER;CN="Comedy Village":MAILTO:zach@comedyvillage.com
END:VEVENT
BEGIN:VEVENT
DTSTART;TZID=America/New_York:20250729T193000
DTEND;TZID=America/New_York:20250729T213000
DTSTAMP:20260421T140456
CREATED:20250715T072328Z
LAST-MODIFIED:20260410T060040Z
UID:10000867-1753817400-1753824600@comedyvillage.com
SUMMARY:Tuesday 29th July @730pm Comedy Village presents Comedy with Nick Viagas and Becky Granger
DESCRIPTION:Tuesday 29th July @730pm Comedy Village presents Comedy with Nick Viagas and Becky Granger – comics from the Tonight Show\, Comedy Central\, HBO and more…
URL:https://comedyvillage.com/event/tuesday-29th-july-730pm-comedy-in-nyc/
LOCATION:Comedy Village Times Square\, 352 West 44th Street\, New York\, NY\, 10036\, United States
ATTACH;FMTTYPE=image/jpeg:https://comedyvillage.com/wp-content/uploads/2025/07/ComedyVillage_July29_730.jpg
ORGANIZER;CN="Comedy Village":MAILTO:zach@comedyvillage.com
END:VEVENT
BEGIN:VEVENT
DTSTART;TZID=America/New_York:20250728T213000
DTEND;TZID=America/New_York:20250728T233000
DTSTAMP:20260421T140456
CREATED:20250715T072107Z
LAST-MODIFIED:20260407T095114Z
UID:10000866-1753738200-1753745400@comedyvillage.com
SUMMARY:Monday 28th July @930pm Comedy Village Presents Comedy with Annette Mullaney and Nick Alexander
DESCRIPTION:Monday 28th July @930pm Comedy Village Presents Comedy with Annette Mullaney and Nick Alexander – comics from the Tonight Show\, Comedy Central\, HBO and more…
URL:https://comedyvillage.com/event/monday-28th-july-930pm-comedy-in-nyc/
LOCATION:Comedy Village Times Square\, 352 West 44th Street\, New York\, NY\, 10036\, United States
ATTACH;FMTTYPE=image/jpeg:https://comedyvillage.com/wp-content/uploads/2025/07/ComedyVillage_July28_930.jpg
ORGANIZER;CN="Comedy Village":MAILTO:zach@comedyvillage.com
END:VEVENT
BEGIN:VEVENT
DTSTART;TZID=America/New_York:20250728T193000
DTEND;TZID=America/New_York:20250728T213000
DTSTAMP:20260421T140456
CREATED:20250715T071839Z
LAST-MODIFIED:20260407T130301Z
UID:10000865-1753731000-1753738200@comedyvillage.com
SUMMARY:Monday 28th July @730pm Comedy Village presents Comedy with Peter Wong and Becky Granger
DESCRIPTION:Monday 28th July @730pm Comedy Village presents Comedy with Peter Wong and Becky Granger – comics from the Tonight Show\, Comedy Central\, HBO and more…
URL:https://comedyvillage.com/event/monday-28th-july-730pm-comedy-in-nyc/
LOCATION:Comedy Village Times Square\, 352 West 44th Street\, New York\, NY\, 10036\, United States
ATTACH;FMTTYPE=image/jpeg:https://comedyvillage.com/wp-content/uploads/2025/07/ComedyVillage_July28_730.jpg
ORGANIZER;CN="Comedy Village":MAILTO:zach@comedyvillage.com
END:VEVENT
BEGIN:VEVENT
DTSTART;TZID=America/New_York:20250727T213000
DTEND;TZID=America/New_York:20250727T233000
DTSTAMP:20260421T140456
CREATED:20250709T113516Z
LAST-MODIFIED:20260408T073744Z
UID:10000863-1753651800-1753659000@comedyvillage.com
SUMMARY:Sunday 27th July @930pm Comedy with Jon Moskowitz and Nick Alexander
DESCRIPTION:Sunday 27th July @930pm Comedy Village Presents Jon Moskowitz and Nick Alexander – comics from the Tonight Show\, Comedy Central\, HBO and more…
URL:https://comedyvillage.com/event/sunday-27th-july-930pm-comedy-in-nyc/
LOCATION:Comedy Village Times Square\, 352 West 44th Street\, New York\, NY\, 10036\, United States
ATTACH;FMTTYPE=image/jpeg:https://comedyvillage.com/wp-content/uploads/2025/07/ComedyVillage_July27_930.jpg
ORGANIZER;CN="Comedy Village":MAILTO:zach@comedyvillage.com
END:VEVENT
BEGIN:VEVENT
DTSTART;TZID=America/New_York:20250727T193000
DTEND;TZID=America/New_York:20250727T213000
DTSTAMP:20260421T140456
CREATED:20250709T113305Z
LAST-MODIFIED:20260408T073702Z
UID:10000862-1753644600-1753651800@comedyvillage.com
SUMMARY:Sunday 27th July @730pm Comedy with Adam Muller hosted by Paula Leon
DESCRIPTION:Sunday 27th July @730pm Comedy Village Presents Adam Muller hosted by Paula Leon – comics from the Tonight Show\, Comedy Central\, HBO and more…
URL:https://comedyvillage.com/event/sunday-27th-july-730pm-comedy-in-nyc/
LOCATION:Comedy Village Times Square\, 352 West 44th Street\, New York\, NY\, 10036\, United States
ATTACH;FMTTYPE=image/jpeg:https://comedyvillage.com/wp-content/uploads/2025/07/ComedyVillage_July27_730.jpg
ORGANIZER;CN="Comedy Village":MAILTO:zach@comedyvillage.com
END:VEVENT
BEGIN:VEVENT
DTSTART;TZID=America/New_York:20250726T233000
DTEND;TZID=America/New_York:20250726T233000
DTSTAMP:20260421T140456
CREATED:20250709T113032Z
LAST-MODIFIED:20250726T134505Z
UID:10000861-1753572600-1753572600@comedyvillage.com
SUMMARY:Saturday 26th July @1130pm Comedy Mickey Farrow PJ Landers Host
DESCRIPTION:Saturday 26th July @1130pm Comedy village Times Square presents – Mickey Farrow\, PJ Landers\, Dan Wickes comics from the Tonight Show\, Comedy Central\, HBO and more…
URL:https://comedyvillage.com/event/saturday-26th-july-1130pm-comedy-in-nyc/
LOCATION:Comedy Village Times Square\, 352 West 44th Street\, New York\, NY\, 10036\, United States
ATTACH;FMTTYPE=image/png:https://comedyvillage.com/wp-content/uploads/2025/03/11PM-2.png
ORGANIZER;CN="Comedy Village":MAILTO:zach@comedyvillage.com
END:VEVENT
BEGIN:VEVENT
DTSTART;TZID=America/New_York:20250726T220000
DTEND;TZID=America/New_York:20250726T233000
DTSTAMP:20260421T140456
CREATED:20250709T112929Z
LAST-MODIFIED:20250723T223650Z
UID:10000859-1753567200-1753572600@comedyvillage.com
SUMMARY:Saturday 26th July @10pm Comedy with Sean Donnelly hosted by Paula Leon
DESCRIPTION:Saturday 26th July @10pm Comedy Village Presents – Ryan Riess\, Sean Donnelly\, Eagle Witt\, Paula Leon\, PJ Landers comics from the Tonight Show\, Comedy Central\, HBO and more…
URL:https://comedyvillage.com/event/saturday-26th-july-10pm-comedy-in-nyc/
LOCATION:Comedy Village Times Square\, 352 West 44th Street\, New York\, NY\, 10036\, United States
ATTACH;FMTTYPE=image/png:https://comedyvillage.com/wp-content/uploads/2025/07/726-10PM.png
ORGANIZER;CN="Comedy Village":MAILTO:zach@comedyvillage.com
END:VEVENT
BEGIN:VEVENT
DTSTART;TZID=America/New_York:20250726T200000
DTEND;TZID=America/New_York:20250726T220000
DTSTAMP:20260421T140456
CREATED:20250709T112835Z
LAST-MODIFIED:20250723T223423Z
UID:10000860-1753560000-1753567200@comedyvillage.com
SUMMARY:Saturday 26th July @8pm Comedy with Eagle Witt hosted by Paula Leon
DESCRIPTION:Saturday 26th July @8pm Comedy village Times Square presents – Ryan Riess\, Sean Donnelly\, Eagle Witt\, James Camacho\, Paula Leon comics from the Tonight Show\, Comedy Central\, HBO and more…
URL:https://comedyvillage.com/event/saturday-26th-july-8pm-comedy-in-nyc/
LOCATION:Comedy Village Times Square\, 352 West 44th Street\, New York\, NY\, 10036\, United States
ATTACH;FMTTYPE=image/png:https://comedyvillage.com/wp-content/uploads/2025/07/726-8PM.png
ORGANIZER;CN="Comedy Village":MAILTO:zach@comedyvillage.com
END:VEVENT
BEGIN:VEVENT
DTSTART;TZID=America/New_York:20250725T233000
DTEND;TZID=America/New_York:20250725T233000
DTSTAMP:20260421T140456
CREATED:20250709T112646Z
LAST-MODIFIED:20250724T140659Z
UID:10000858-1753486200-1753486200@comedyvillage.com
SUMMARY:Friday 25th July @1130pm Comedy PJ Landers Host Mickey Farrow
DESCRIPTION:Friday 25th July @1130pm till 1am Comedy Village Presents – PJ Landers\, Brian Buche\, Mickey Farrow\, Sean Donnelly comics from the Tonight Show\, Comedy Central\, HBO and more…
URL:https://comedyvillage.com/event/friday-25th-july-1130pm-comedy-in-nyc/
LOCATION:Comedy Village Times Square\, 352 West 44th Street\, New York\, NY\, 10036\, United States
ATTACH;FMTTYPE=image/png:https://comedyvillage.com/wp-content/uploads/2025/03/11PM-1.png
ORGANIZER;CN="Comedy Village":MAILTO:zach@comedyvillage.com
END:VEVENT
BEGIN:VEVENT
DTSTART;TZID=America/New_York:20250725T220000
DTEND;TZID=America/New_York:20250725T233000
DTSTAMP:20260421T140456
CREATED:20250709T112500Z
LAST-MODIFIED:20250723T223112Z
UID:10000857-1753480800-1753486200@comedyvillage.com
SUMMARY:Friday 25th July @10pm Comedy with Adam Muller hosted by Paula Leon
DESCRIPTION:Friday 25th July @10pm Comedy village Times Square presents – Paula Leon\, Eagle Witt\, Ryan Riess\, Adam Muller comics from the Tonight Show\, Comedy Central\, HBO and more…
URL:https://comedyvillage.com/event/friday-25th-july-10pm-comedy-in-nyc/
LOCATION:Comedy Village Times Square\, 352 West 44th Street\, New York\, NY\, 10036\, United States
ATTACH;FMTTYPE=image/png:https://comedyvillage.com/wp-content/uploads/2025/07/725-10PM.png
ORGANIZER;CN="Comedy Village":MAILTO:zach@comedyvillage.com
END:VEVENT
BEGIN:VEVENT
DTSTART;TZID=America/New_York:20250725T200000
DTEND;TZID=America/New_York:20250725T220000
DTSTAMP:20260421T140456
CREATED:20250709T112319Z
LAST-MODIFIED:20250723T222550Z
UID:10000856-1753473600-1753480800@comedyvillage.com
SUMMARY:Friday 25th July @8pm Comedy Village Presents Ryan Riess
DESCRIPTION:Friday 25th July @8pm Comedy Village Presents – Ryan Riess\, Paula Leon\, Carmen Lynch\, Mike Yard\, comics from the Tonight Show\, Comedy Central\, HBO and more…
URL:https://comedyvillage.com/event/friday-25th-july-8pm-comedy-in-nyc/
LOCATION:Comedy Village Times Square\, 352 West 44th Street\, New York\, NY\, 10036\, United States
ATTACH;FMTTYPE=image/png:https://comedyvillage.com/wp-content/uploads/2025/07/725-8PM.png
ORGANIZER;CN="Comedy Village":MAILTO:zach@comedyvillage.com
END:VEVENT
BEGIN:VEVENT
DTSTART;TZID=America/New_York:20250724T220000
DTEND;TZID=America/New_York:20250724T233000
DTSTAMP:20260421T140456
CREATED:20250709T112008Z
LAST-MODIFIED:20260408T074046Z
UID:10000855-1753394400-1753399800@comedyvillage.com
SUMMARY:Thursday 24th July @10pm Comedy with Jack Finnegan and Nick Alexander
DESCRIPTION:Thursday 24th July @10pm Comedy village Times Square presents Jack Finnegan and Nick Alexander – comics from the Tonight Show\, Comedy Central\, HBO and more…
URL:https://comedyvillage.com/event/thursday-24th-july-10pm-comedy-in-nyc/
LOCATION:Comedy Village Times Square\, 352 West 44th Street\, New York\, NY\, 10036\, United States
ATTACH;FMTTYPE=image/jpeg:https://comedyvillage.com/wp-content/uploads/2025/07/Comedy-Village_July24_10pm.jpg
ORGANIZER;CN="Comedy Village":MAILTO:zach@comedyvillage.com
END:VEVENT
BEGIN:VEVENT
DTSTART;TZID=America/New_York:20250724T200000
DTEND;TZID=America/New_York:20250724T220000
DTSTAMP:20260421T140456
CREATED:20250709T111824Z
LAST-MODIFIED:20260408T074112Z
UID:10000854-1753387200-1753394400@comedyvillage.com
SUMMARY:Thursday 24th July @8pm Comedy with Adam Muller hosted by Caroline Hanes
DESCRIPTION:Thursday 24th July @8pm Comedy village Times Square presents Adam Muller hosted by Caroline Hanes – comics from the Tonight Show\, Comedy Central\, HBO and more…
URL:https://comedyvillage.com/event/thursday-24th-july-8pm-comedy-in-nyc/
LOCATION:Comedy Village Times Square\, 352 West 44th Street\, New York\, NY\, 10036\, United States
ATTACH;FMTTYPE=image/jpeg:https://comedyvillage.com/wp-content/uploads/2025/07/Comedy-Village_July24_8pm.jpg
ORGANIZER;CN="Comedy Village":MAILTO:zach@comedyvillage.com
END:VEVENT
BEGIN:VEVENT
DTSTART;TZID=America/New_York:20250723T213000
DTEND;TZID=America/New_York:20250723T233000
DTSTAMP:20260421T140456
CREATED:20250709T111318Z
LAST-MODIFIED:20260410T060358Z
UID:10000853-1753306200-1753313400@comedyvillage.com
SUMMARY:Wednesday 23rd July @930pm Comedy with Peter Wong and Nick Alexander
DESCRIPTION:Wednesday 23rd July @930pm Comedy village Times Square presents Peter Wong\, Nick Alexander\, Natalie G\, comics from the Tonight Show\, Comedy Central\, HBO and more…
URL:https://comedyvillage.com/event/wednesday-23rd-july-930pm-comedy-in-nyc/
LOCATION:Comedy Village Times Square\, 352 West 44th Street\, New York\, NY\, 10036\, United States
ATTACH;FMTTYPE=image/jpeg:https://comedyvillage.com/wp-content/uploads/2025/07/ComedyVillage_July23_930.jpg
ORGANIZER;CN="Comedy Village":MAILTO:zach@comedyvillage.com
END:VEVENT
BEGIN:VEVENT
DTSTART;TZID=America/New_York:20250723T193000
DTEND;TZID=America/New_York:20250723T213000
DTSTAMP:20260421T140456
CREATED:20250709T111046Z
LAST-MODIFIED:20260410T060333Z
UID:10000852-1753299000-1753306200@comedyvillage.com
SUMMARY:Wednesday 23rd July @730pm Comedy with Eagle Witt hosted by Paula Leon
DESCRIPTION:Wednesday 23rd July @730pm Comedy village Times Square presents Eagle Witt\, Sean Donnelly\, Paula Leon\, comics from the Tonight Show\, Comedy Central\, HBO and more…
URL:https://comedyvillage.com/event/wednesday-23rd-july-730pm-comedy-in-nyc/
LOCATION:Comedy Village Times Square\, 352 West 44th Street\, New York\, NY\, 10036\, United States
ATTACH;FMTTYPE=image/jpeg:https://comedyvillage.com/wp-content/uploads/2025/07/ComedyVillage_July23_730.jpg
ORGANIZER;CN="Comedy Village":MAILTO:zach@comedyvillage.com
END:VEVENT
BEGIN:VEVENT
DTSTART;TZID=America/New_York:20250722T213000
DTEND;TZID=America/New_York:20250722T233000
DTSTAMP:20260421T140457
CREATED:20250709T110848Z
LAST-MODIFIED:20250720T204821Z
UID:10000851-1753219800-1753227000@comedyvillage.com
SUMMARY:Tuesday 22nd July @930pm Comedy with Julia Kastner and Nick Alexander
DESCRIPTION:Tuesday 22nd July @930pm Comedy village Times Square presents Julia Kastner and Nick Alexander – comics from the Tonight Show\, Comedy Central\, HBO and more…
URL:https://comedyvillage.com/event/tuesday-22nd-july-930pm-comedy-in-nyc/
LOCATION:Comedy Village Times Square\, 352 West 44th Street\, New York\, NY\, 10036\, United States
ATTACH;FMTTYPE=image/jpeg:https://comedyvillage.com/wp-content/uploads/2025/07/ComedyVillage_July22_930.jpg
ORGANIZER;CN="Comedy Village":MAILTO:zach@comedyvillage.com
END:VEVENT
BEGIN:VEVENT
DTSTART;TZID=America/New_York:20250722T193000
DTEND;TZID=America/New_York:20250722T213000
DTSTAMP:20260421T140457
CREATED:20250709T110704Z
LAST-MODIFIED:20260410T055921Z
UID:10000850-1753212600-1753219800@comedyvillage.com
SUMMARY:Tuesday 22nd July @730pm Comedy with Eagle Witt hosted by Becky Granger
DESCRIPTION:Tuesday 22nd July @730pm Comedy village Times Square presents – Becky Granger\, Eagle Witt\, Brittany Brave\, comics from the Tonight Show\, Comedy Central\, HBO and more…
URL:https://comedyvillage.com/event/tuesday-22nd-july-730pm-comedy-in-nyc/
LOCATION:Comedy Village Times Square\, 352 West 44th Street\, New York\, NY\, 10036\, United States
ATTACH;FMTTYPE=image/jpeg:https://comedyvillage.com/wp-content/uploads/2025/07/ComedyVillage_July22_730-1.jpg
ORGANIZER;CN="Comedy Village":MAILTO:zach@comedyvillage.com
END:VEVENT
BEGIN:VEVENT
DTSTART;TZID=America/New_York:20250721T213000
DTEND;TZID=America/New_York:20250721T233000
DTSTAMP:20260421T140457
CREATED:20250709T110145Z
LAST-MODIFIED:20260408T064141Z
UID:10000849-1753133400-1753140600@comedyvillage.com
SUMMARY:Monday 21st July @930pm Comedy with Olivia Carter and Nick Alexander
DESCRIPTION:Monday 21st July @930pm Comedy village Times Square presents – Nick Alexander\, Olivia Carter\, Dan Wickes\, comics from the Tonight Show\, Comedy Central\, HBO and more…
URL:https://comedyvillage.com/event/monday-21st-july-930pm-comedy-in-nyc/
LOCATION:Comedy Village Times Square\, 352 West 44th Street\, New York\, NY\, 10036\, United States
ATTACH;FMTTYPE=image/jpeg:https://comedyvillage.com/wp-content/uploads/2025/07/ComedyVillage_July21_930-1.jpg
ORGANIZER;CN="Comedy Village":MAILTO:zach@comedyvillage.com
END:VEVENT
BEGIN:VEVENT
DTSTART;TZID=America/New_York:20250721T193000
DTEND;TZID=America/New_York:20250721T213000
DTSTAMP:20260421T140457
CREATED:20250709T110054Z
LAST-MODIFIED:20260407T103823Z
UID:10000848-1753126200-1753133400@comedyvillage.com
SUMMARY:Monday 21st July @730pm Comedy with Eagle Witt hosted by Caroline Hanes
DESCRIPTION:Monday 21st July @730pm Comedy village Times Square presents – Mario Pisano\, Caroline Hanes\, Eagle Witt\, comics from the Tonight Show\, Comedy Central\, HBO and more…
URL:https://comedyvillage.com/event/monday-21st-july-730pm-comedy-in-nyc/
LOCATION:Comedy Village Times Square\, 352 West 44th Street\, New York\, NY\, 10036\, United States
ATTACH;FMTTYPE=image/jpeg:https://comedyvillage.com/wp-content/uploads/2025/07/ComedyVillage_July21_730.jpg
ORGANIZER;CN="Comedy Village":MAILTO:zach@comedyvillage.com
END:VEVENT
END:VCALENDAR